BEGIN:VCALENDAR
VERSION:2.0
PRODID:spatie/icalendar-generator
DESCRIPTION:Veranstaltungen von Digital Jetzt Einfach
X-WR-CALDESC:Veranstaltungen von Digital Jetzt Einfach
REFRESH-INTERVAL;VALUE=DURATION:PT1440M
X-PUBLISHED-TTL:PT1440M
BEGIN:VTIMEZONE
TZID:Etc/GMT+0
BEGIN:STANDARD
DTSTART:20250728T160000Z
TZOFFSETFROM:+0000
TZOFFSETTO:+0000
END:STANDARD
END:VTIMEZONE
BEGIN:VTIMEZONE
TZID:UTC
BEGIN:STANDARD
DTSTART:20250723T121855Z
TZOFFSETFROM:+0000
TZOFFSETTO:+0000
END:STANDARD
END:VTIMEZONE
BEGIN:VEVENT
UID:134-2
DTSTAMP:20260419T121855Z
SUMMARY:IT-Café
LOCATION:BeTreff Herrenstrasse 12  Hörstel-Bevergern  48477
ORGANIZER;CN=admin:MAILTO:johannes-sand@gmx.de
RRULE:FREQ=MONTHLY;BYDAY=4FR;UNTIL=20261219T000000Z
DTSTART;TZID=Etc/GMT+0:20260424T160000
DTEND;TZID=Etc/GMT+0:20260424T180000
X-ALT-DESC;FMTTYPE=TEXT/HTML:&amp;nbsp\; [caption id=\"attachment_470\" align=\
 "aligncenter\" width=\"300\"] IT-Cafe´[/caption] Computer und Handy leich
 t gemacht Hilfe und Austausch in gemütlicher Runde Jeweils am letzten Fre
 itag eines Monats\, findet ein IT-Café im BeTreff in Bevergern statt\, do
 rt sind kostenfreies WLAN sowie Laptop und Beamer zur Verfügung Geplant s
 ind monatliche Treffen\, bei denen jeder Fragen zum Umgang mit Computer un
 d Handy&amp;hellip\;
CATEGORIES:Veranstaltung,  General
URL;VALUE=URI:https://www.digitaljetzteinfach.de/mc-events/it-cafe/?mc_id=1
 34
METHOD:PUBLISH
END:VEVENT
END:VCALENDAR