BEGIN:VCALENDAR
VERSION:2.0
PRODID:spatie/icalendar-generator
DESCRIPTION:Veranstaltungen von Digital Jetzt Einfach
X-WR-CALDESC:Veranstaltungen von Digital Jetzt Einfach
REFRESH-INTERVAL;VALUE=DURATION:PT1440M
X-PUBLISHED-TTL:PT1440M
BEGIN:VTIMEZONE
TZID:Etc/GMT+0
BEGIN:STANDARD
DTSTART:20250712T163000Z
TZOFFSETFROM:+0000
TZOFFSETTO:+0000
END:STANDARD
END:VTIMEZONE
BEGIN:VTIMEZONE
TZID:UTC
BEGIN:STANDARD
DTSTART:20250723T121428Z
TZOFFSETFROM:+0000
TZOFFSETTO:+0000
END:STANDARD
END:VTIMEZONE
BEGIN:VEVENT
UID:145-14
DTSTAMP:20260419T121428Z
SUMMARY:Sprechstunde DIGITAL JETZT EINFACH
LOCATION:Geschäftsstelle VdK ( SC-Hörstel ) Bahnhofstrasse 33  Hörstel N
 RW 48477
ORGANIZER;CN=admin:MAILTO:johannes-sand@gmx.de
RRULE:FREQ=MONTHLY;BYDAY=2WE;UNTIL=20261217T000000Z
DTSTART;TZID=Etc/GMT+0:20260408T163000
DTEND;TZID=Etc/GMT+0:20260408T180000
X-ALT-DESC;FMTTYPE=TEXT/HTML:[caption id=\"attachment_852\" align=\"alignce
 nter\" width=\"300\"] SC-Geschäftsstelle[/caption] &amp;nbsp\; Hilfe im digit
 alen Alltag &amp;nbsp\; Sprechstunde jeden 2. Mittwoch im Monat von 16:30 Uhr 
 - 18 Uhr [caption id=\"attachment_768\" align=\"aligncenter\" width=\"300\
 "] HandyGruppe[/caption]
CATEGORIES:Beratung,  General
URL;VALUE=URI:https://www.digitaljetzteinfach.de/mc-events/sprechstunde-dig
 ital-jetzt-einfach-2/?mc_id=145
METHOD:PUBLISH
END:VEVENT
END:VCALENDAR