BEGIN:VCALENDAR
VERSION:2.0
PRODID:spatie/icalendar-generator
DESCRIPTION:Veranstaltungen von Digital Jetzt Einfach
X-WR-CALDESC:Veranstaltungen von Digital Jetzt Einfach
REFRESH-INTERVAL;VALUE=DURATION:PT1440M
X-PUBLISHED-TTL:PT1440M
BEGIN:VTIMEZONE
TZID:Etc/GMT+0
BEGIN:STANDARD
DTSTART:20250718T100000Z
TZOFFSETFROM:+0000
TZOFFSETTO:+0000
END:STANDARD
END:VTIMEZONE
BEGIN:VTIMEZONE
TZID:UTC
BEGIN:STANDARD
DTSTART:20250723T121551Z
TZOFFSETFROM:+0000
TZOFFSETTO:+0000
END:STANDARD
END:VTIMEZONE
BEGIN:VEVENT
UID:186-10
DTSTAMP:20260419T121551Z
SUMMARY:Digitalsprechstunde (Stadtbücherei)
LOCATION:Stadtbücherei Oststrasse 28
ORGANIZER;CN=admin:MAILTO:johannes-sand@gmx.de
RRULE:FREQ=WEEKLY;UNTIL=20261218T000000Z
DTSTART;TZID=Etc/GMT+0:20260414T100000
DTEND;TZID=Etc/GMT+0:20260414T120000
X-ALT-DESC;FMTTYPE=TEXT/HTML:[caption id=\"attachment_715\" align=\"alignce
 nter\" width=\"300\"] DK-Sprechstunden[/caption] In der Stadtbücherei Ib
 benbüren findet jeden Dienstag in der Zeit von 10 bis 12 Uhr  eine S
 prechstunde zum Thema  „Unterstützung beim Umgang mit digitalen Endger
 äten“ statt. Das Angebot richtet sich an alle\, die offene Fragen oder 
 Probleme beim Umgang mit Smartphones\, Tablets und Computern haben und Unt
 erstützung benötigen. Ehrenamtliche IT-Experten werden dabei helfen\, ih
 re Kenntnisse&amp;hellip\;
CATEGORIES:Beratung
URL;VALUE=URI:https://www.digitaljetzteinfach.de/mc-events/digitalsprechstu
 nde-stadtbuecherei-2/?mc_id=186
METHOD:PUBLISH
END:VEVENT
END:VCALENDAR