BEGIN:VCALENDAR
VERSION:2.0
PRODID:spatie/icalendar-generator
DESCRIPTION:Veranstaltungen von Digital Jetzt Einfach
X-WR-CALDESC:Veranstaltungen von Digital Jetzt Einfach
REFRESH-INTERVAL;VALUE=DURATION:PT1440M
X-PUBLISHED-TTL:PT1440M
BEGIN:VTIMEZONE
TZID:Etc/GMT+0
BEGIN:STANDARD
DTSTART:20250818T100000Z
TZOFFSETFROM:+0000
TZOFFSETTO:+0000
END:STANDARD
END:VTIMEZONE
BEGIN:VTIMEZONE
TZID:UTC
BEGIN:STANDARD
DTSTART:20250723T152817Z
TZOFFSETFROM:+0000
TZOFFSETTO:+0000
END:STANDARD
END:VTIMEZONE
BEGIN:VEVENT
UID:257-8
DTSTAMP:20260419T152817Z
SUMMARY:Digitalsprechstunde (Familienbüro)
LOCATION:Familienbüro Große Strasse 21  49477 NRW 49477
ORGANIZER;CN=admin:MAILTO:johannes-sand@gmx.de
RRULE:FREQ=WEEKLY;UNTIL=20261219T000000Z
DTSTART;TZID=Etc/GMT+0:20260515T100000
DTEND;TZID=Etc/GMT+0:20260515T120000
X-ALT-DESC;FMTTYPE=TEXT/HTML:[caption id=\"attachment_715\" align=\"alignce
 nter\" width=\"300\"] DK-Sprechstunden[/caption] Im Familienbüro  Ibben
 büren findet jeden Freitag in der Zeit von 10 bis 12 Uhr  eine Sprec
 hstunde zum Thema  „Unterstützung beim Umgang mit digitalen Endgeräte
 n“ statt. Das Angebot richtet sich an alle\, die offene Fragen oder Prob
 leme beim Umgang mit Smartphones\, Tablets und Computern haben und Unterst
 ützung benötigen. Ehrenamtliche IT-Experten werden dabei helfen\, ihre K
 enntnisse im&amp;hellip\;
CATEGORIES:Beratung
URL;VALUE=URI:https://www.digitaljetzteinfach.de/mc-events/digitalsprechstu
 nde-familienbuero/?mc_id=257
METHOD:PUBLISH
END:VEVENT
END:VCALENDAR