BEGIN:VCALENDAR
VERSION:2.0
PRODID:spatie/icalendar-generator
DESCRIPTION:Veranstaltungen von Digital Jetzt Einfach
X-WR-CALDESC:Veranstaltungen von Digital Jetzt Einfach
REFRESH-INTERVAL;VALUE=DURATION:PT1440M
X-PUBLISHED-TTL:PT1440M
BEGIN:VTIMEZONE
TZID:Etc/GMT+0
BEGIN:STANDARD
DTSTART:20250731T160000Z
TZOFFSETFROM:+0000
TZOFFSETTO:+0000
END:STANDARD
END:VTIMEZONE
BEGIN:VTIMEZONE
TZID:UTC
BEGIN:STANDARD
DTSTART:20250723T122829Z
TZOFFSETFROM:+0000
TZOFFSETTO:+0000
END:STANDARD
END:VTIMEZONE
BEGIN:VEVENT
UID:296-5
DTSTAMP:20260419T122829Z
SUMMARY:Digitalsprechstunde (im Café Klatsch)
LOCATION:Familienbildungsstätte Ibbenbüren - Mehrgenerationenhaus Ibbenb
 üren Klosterstrasse 21  Ibbenbüren NRW 49477
ORGANIZER;CN=admin:MAILTO:johannes-sand@gmx.de
RRULE:FREQ=MONTHLY;BYDAY=4MO;UNTIL=20261218T000000Z
DTSTART;TZID=Etc/GMT+0:20260427T160000
DTEND;TZID=Etc/GMT+0:20260427T180000
X-ALT-DESC;FMTTYPE=TEXT/HTML:Im Café Klatsch findet jeden 2. und 4. Montag
  im Monat in der Zeit von 16 bis 18 Uhr  eine Sprechstunde zum Thema  
 „Unterstützung beim Umgang mit digitalen Endgeräten“ statt. Das Ange
 bot richtet sich an alle\, die offene Fragen oder Probleme beim Umgang mit
  Smartphones\, Tablets und Computern haben und Unterstützung benötigen. 
 Ehrenamtliche IT-Experten werden&amp;hellip\;
CATEGORIES:Beratung
URL;VALUE=URI:https://www.digitaljetzteinfach.de/mc-events/digitalsprechstu
 nde-im-cafe-klatsch-2/?mc_id=296
METHOD:PUBLISH
END:VEVENT
END:VCALENDAR